BEGIN:VCALENDAR
VERSION:2.0
PRODID:icalendar-ruby
CALSCALE:GREGORIAN
METHOD:PUBLISH
BEGIN:VEVENT
DTSTAMP:20260421T142305Z
UID:61-1070633@tbc.org.nz
DTSTART:20261024T210000Z
DTEND:20261024T223000Z
CLASS:PUBLIC
CREATED:20260422T011354
DESCRIPTION:Everyone is welcome as we gather together!\nOur community is bu
 ilt together as family in welcome\, worship and wonder at God's Word and G
 od's work.\n 
LAST-MODIFIED:20260422T011354
LOCATION:30-44 Kaurilands Road
SUMMARY:Sunday Service 10am @ The Crossing
URL;VALUE=URI:https://www.tbc.org.nz/events/sunday-service-10am-the-crossin
 g--61/2026-10-25
END:VEVENT
END:VCALENDAR
