BEGIN:VCALENDAR
VERSION:2.0
PRODID:icalendar-ruby
CALSCALE:GREGORIAN
METHOD:PUBLISH
BEGIN:VEVENT
DTSTAMP:20260421T124843Z
UID:61-1069918@tbc.org.nz
DTSTART:20261017T210000Z
DTEND:20261017T223000Z
CLASS:PUBLIC
CREATED:20260421T223758
DESCRIPTION:Everyone is welcome as we gather together!\nOur community is bu
 ilt together as family in welcome\, worship and wonder at God's Word and G
 od's work.\n 
LAST-MODIFIED:20260421T223758
LOCATION:30-44 Kaurilands Road
SUMMARY:Sunday Service 10am @ The Crossing
URL;VALUE=URI:https://www.tbc.org.nz/events/sunday-service-10am-the-crossin
 g--61/2026-10-18
END:VEVENT
END:VCALENDAR
