BEGIN:VCALENDAR
VERSION:2.0
PRODID:icalendar-ruby
CALSCALE:GREGORIAN
METHOD:PUBLISH
BEGIN:VEVENT
DTSTAMP:20260423T170049Z
UID:39-1079666@tbc.org.nz
DTSTART:20250415T190000Z
DTEND:20250415T200000Z
CLASS:PUBLIC
CREATED:20260424T043040
DESCRIPTION:Church Prayer Meeting- Wednesday 7am- Kereru Room
LAST-MODIFIED:20260424T043040
LOCATION:
SUMMARY:Church Prayer Meeting- Wednesday 7am- Online
URL;VALUE=URI:https://www.tbc.org.nz/events/church-prayer-meeting-wednesday
 -7am-online/2025-04-16
END:VEVENT
END:VCALENDAR
